BEGIN:VCALENDAR
VERSION:2.0
PRODID:-//AfD Kreis Landkreis Rostock - ECPv6.15.20//NONSGML v1.0//EN
CALSCALE:GREGORIAN
METHOD:PUBLISH
X-WR-CALNAME:AfD Kreis Landkreis Rostock
X-ORIGINAL-URL:https://afd-ro.de
X-WR-CALDESC:Veranstaltungen für AfD Kreis Landkreis Rostock
REFRESH-INTERVAL;VALUE=DURATION:PT1H
X-Robots-Tag:noindex
X-PUBLISHED-TTL:PT1H
BEGIN:VTIMEZONE
TZID:Europe/Berlin
BEGIN:DAYLIGHT
TZOFFSETFROM:+0100
TZOFFSETTO:+0200
TZNAME:CEST
DTSTART:20170326T010000
END:DAYLIGHT
BEGIN:STANDARD
TZOFFSETFROM:+0200
TZOFFSETTO:+0100
TZNAME:CET
DTSTART:20171029T010000
END:STANDARD
BEGIN:DAYLIGHT
TZOFFSETFROM:+0100
TZOFFSETTO:+0200
TZNAME:CEST
DTSTART:20180325T010000
END:DAYLIGHT
BEGIN:STANDARD
TZOFFSETFROM:+0200
TZOFFSETTO:+0100
TZNAME:CET
DTSTART:20181028T010000
END:STANDARD
BEGIN:DAYLIGHT
TZOFFSETFROM:+0100
TZOFFSETTO:+0200
TZNAME:CEST
DTSTART:20190331T010000
END:DAYLIGHT
BEGIN:STANDARD
TZOFFSETFROM:+0200
TZOFFSETTO:+0100
TZNAME:CET
DTSTART:20191027T010000
END:STANDARD
END:VTIMEZONE
BEGIN:VEVENT
DTSTART;TZID=Europe/Berlin:20180619T180000
DTEND;TZID=Europe/Berlin:20180619T210000
DTSTAMP:20260423T231338
CREATED:20180602T215236Z
LAST-MODIFIED:20180602T215236Z
UID:13579-1529431200-1529442000@afd-ro.de
SUMMARY:Stammtische der Ortsgruppen Güstrow und Teterow
DESCRIPTION:Am Dienstag\, dem 19. Juni 2018\, veranstalten unsere Ortsgruppen in Güstrow und in Teterow jeweils wieder ihre monatlichen „Stammtische“\, welche sich an Parteifreunde\, Sympathisanten und interessierte Bürger richten. Interessenten melden sich bitte über unser Kontaktformular per EMail oder telefonisch im KV-Büro. Wir teilen Ihnen dann die Adresse und genaue Anfangszeit der Stammtische mit. \nWir freuen uns auf Ihren Besuch!
URL:https://afd-ro.de/veranstaltungen/stammtische-der-ortsgruppen-guestrow-und-teterow/
END:VEVENT
END:VCALENDAR