BEGIN:VCALENDAR
VERSION:2.0
PRODID:-//AfD Kreis Landkreis Rostock - ECPv6.15.20//NONSGML v1.0//EN
CALSCALE:GREGORIAN
METHOD:PUBLISH
X-WR-CALNAME:AfD Kreis Landkreis Rostock
X-ORIGINAL-URL:https://afd-ro.de
X-WR-CALDESC:Veranstaltungen für AfD Kreis Landkreis Rostock
REFRESH-INTERVAL;VALUE=DURATION:PT1H
X-Robots-Tag:noindex
X-PUBLISHED-TTL:PT1H
BEGIN:VTIMEZONE
TZID:Europe/Berlin
BEGIN:DAYLIGHT
TZOFFSETFROM:+0100
TZOFFSETTO:+0200
TZNAME:CEST
DTSTART:20170326T010000
END:DAYLIGHT
BEGIN:STANDARD
TZOFFSETFROM:+0200
TZOFFSETTO:+0100
TZNAME:CET
DTSTART:20171029T010000
END:STANDARD
BEGIN:DAYLIGHT
TZOFFSETFROM:+0100
TZOFFSETTO:+0200
TZNAME:CEST
DTSTART:20180325T010000
END:DAYLIGHT
BEGIN:STANDARD
TZOFFSETFROM:+0200
TZOFFSETTO:+0100
TZNAME:CET
DTSTART:20181028T010000
END:STANDARD
BEGIN:DAYLIGHT
TZOFFSETFROM:+0100
TZOFFSETTO:+0200
TZNAME:CEST
DTSTART:20190331T010000
END:DAYLIGHT
BEGIN:STANDARD
TZOFFSETFROM:+0200
TZOFFSETTO:+0100
TZNAME:CET
DTSTART:20191027T010000
END:STANDARD
END:VTIMEZONE
BEGIN:VEVENT
DTSTART;TZID=Europe/Berlin:20180724T183000
DTEND;TZID=Europe/Berlin:20180724T210000
DTSTAMP:20260423T213416
CREATED:20180705T220815Z
LAST-MODIFIED:20180705T220955Z
UID:13619-1532457000-1532466000@afd-ro.de
SUMMARY:Offener Bürgerstammtisch in Teterow
DESCRIPTION:Am Dienstag\, 24. Juli 2018\, veranstaltet die Ortsgruppe Teterow einen offenen Bürgerstammtisch zu aktuellen politischen Themen. Interessierte Bürger aus der Stadt und Region sind herzlich eingeladen. Anmeldungen sind per EMail über das Kontaktformular oder telefonisch über unser KV-Büro möglich; wir teilen Ihnen dann den Veranstaltungsort zeitnah mit. \nWir freuen uns auf Ihren Besuch!
URL:https://afd-ro.de/veranstaltungen/offener-buergerstammtisch-in-teterow/
CATEGORIES:Bürgerstammtisch
END:VEVENT
END:VCALENDAR